BEGIN:VCALENDAR
VERSION:2.0
PRODID:-//Hempens Teerns - ECPv6.15.20//NONSGML v1.0//EN
CALSCALE:GREGORIAN
METHOD:PUBLISH
X-WR-CALNAME:Hempens Teerns
X-ORIGINAL-URL:https://hempensteerns.nl
X-WR-CALDESC:Evenementen voor Hempens Teerns
REFRESH-INTERVAL;VALUE=DURATION:PT1H
X-Robots-Tag:noindex
X-PUBLISHED-TTL:PT1H
BEGIN:VTIMEZONE
TZID:Europe/Helsinki
BEGIN:DAYLIGHT
TZOFFSETFROM:+0200
TZOFFSETTO:+0300
TZNAME:EEST
DTSTART:20240331T010000
END:DAYLIGHT
BEGIN:STANDARD
TZOFFSETFROM:+0300
TZOFFSETTO:+0200
TZNAME:EET
DTSTART:20241027T010000
END:STANDARD
BEGIN:DAYLIGHT
TZOFFSETFROM:+0200
TZOFFSETTO:+0300
TZNAME:EEST
DTSTART:20250330T010000
END:DAYLIGHT
BEGIN:STANDARD
TZOFFSETFROM:+0300
TZOFFSETTO:+0200
TZNAME:EET
DTSTART:20251026T010000
END:STANDARD
BEGIN:DAYLIGHT
TZOFFSETFROM:+0200
TZOFFSETTO:+0300
TZNAME:EEST
DTSTART:20260329T010000
END:DAYLIGHT
BEGIN:STANDARD
TZOFFSETFROM:+0300
TZOFFSETTO:+0200
TZNAME:EET
DTSTART:20261025T010000
END:STANDARD
END:VTIMEZONE
BEGIN:VEVENT
DTSTART;TZID=Europe/Helsinki:20250610T000000
DTEND;TZID=Europe/Helsinki:20250610T235959
DTSTAMP:20260426T072406
CREATED:20250531T122106Z
LAST-MODIFIED:20250531T122106Z
UID:14328-1749513600-1749599999@hempensteerns.nl
SUMMARY:Bining: Jeu de Boules
DESCRIPTION:19:00 uur
URL:https://hempensteerns.nl/agenda/bining-jeu-de-boules-2/
END:VEVENT
BEGIN:VEVENT
DTSTART;TZID=Europe/Helsinki:20250606T000000
DTEND;TZID=Europe/Helsinki:20250606T235959
DTSTAMP:20260426T072406
CREATED:20250531T122040Z
LAST-MODIFIED:20250531T122040Z
UID:14326-1749168000-1749254399@hempensteerns.nl
SUMMARY:Bining: repetitie DesNotes
DESCRIPTION:16:30 uur
URL:https://hempensteerns.nl/agenda/bining-repetitie-desnotes/
END:VEVENT
BEGIN:VEVENT
DTSTART;TZID=Europe/Helsinki:20250605T000000
DTEND;TZID=Europe/Helsinki:20250605T235959
DTSTAMP:20260426T072406
CREATED:20250531T122011Z
LAST-MODIFIED:20250531T122011Z
UID:14324-1749081600-1749167999@hempensteerns.nl
SUMMARY:Bining: VV Hempens
DESCRIPTION:19:30 uur op het veld.
URL:https://hempensteerns.nl/agenda/bining-vv-hempens/
END:VEVENT
BEGIN:VEVENT
DTSTART;TZID=Europe/Helsinki:20250604T000000
DTEND;TZID=Europe/Helsinki:20250604T235959
DTSTAMP:20260426T072406
CREATED:20250531T121939Z
LAST-MODIFIED:20250531T121939Z
UID:14322-1748995200-1749081599@hempensteerns.nl
SUMMARY:Bining: ZoZuMo
DESCRIPTION:20:00 uur
URL:https://hempensteerns.nl/agenda/bining-zozumo/
END:VEVENT
BEGIN:VEVENT
DTSTART;TZID=Europe/Helsinki:20250603T000000
DTEND;TZID=Europe/Helsinki:20250603T235959
DTSTAMP:20260426T072406
CREATED:20250531T121911Z
LAST-MODIFIED:20250531T121911Z
UID:14319-1748908800-1748995199@hempensteerns.nl
SUMMARY:Bining: Jeu de Boules
DESCRIPTION:19:00 uur.
URL:https://hempensteerns.nl/agenda/bining-jeu-de-boules/
END:VEVENT
BEGIN:VEVENT
DTSTART;TZID=Europe/Helsinki:20250525T000000
DTEND;TZID=Europe/Helsinki:20250525T235959
DTSTAMP:20260426T072406
CREATED:20250504T102435Z
LAST-MODIFIED:20250504T102435Z
UID:14296-1748131200-1748217599@hempensteerns.nl
SUMMARY:Kapelkuier
DESCRIPTION:Tijd: 14:00 – 16:00 uur. \nStartlocatie: Martinuskerk Hempens. \nThema: reizen.
URL:https://hempensteerns.nl/agenda/kapelkuier-2/
END:VEVENT
BEGIN:VEVENT
DTSTART;TZID=Europe/Helsinki:20250518T000000
DTEND;TZID=Europe/Helsinki:20250518T235959
DTSTAMP:20260426T072406
CREATED:20250504T101959Z
LAST-MODIFIED:20250504T101959Z
UID:14294-1747526400-1747612799@hempensteerns.nl
SUMMARY:Amfitheater: optreden van The Fabs
DESCRIPTION:Tijd: 15:00 – 17:30 uur. \nLocatie: Amfitheater Hempens-Teerns.
URL:https://hempensteerns.nl/agenda/amfitheater-optreden-van-the-fabs/
END:VEVENT
BEGIN:VEVENT
DTSTART;TZID=Europe/Helsinki:20250513T000000
DTEND;TZID=Europe/Helsinki:20250513T235959
DTSTAMP:20260426T072406
CREATED:20250504T103544Z
LAST-MODIFIED:20250504T103544Z
UID:14306-1747094400-1747180799@hempensteerns.nl
SUMMARY:Oud papier
DESCRIPTION:
URL:https://hempensteerns.nl/agenda/oud-papier-25/
END:VEVENT
BEGIN:VEVENT
DTSTART;VALUE=DATE:20250510
DTEND;VALUE=DATE:20250511
DTSTAMP:20260426T072406
CREATED:20250305T071644Z
LAST-MODIFIED:20250305T072451Z
UID:14049-1746835200-1746921599@hempensteerns.nl
SUMMARY:Vrijwilligersdag
DESCRIPTION:Vrijwilligers van de Bining worden in het zonnetje gezet.
URL:https://hempensteerns.nl/agenda/vrijwilligersdag/
END:VEVENT
BEGIN:VEVENT
DTSTART;TZID=Europe/Helsinki:20250509T000000
DTEND;TZID=Europe/Helsinki:20250509T235959
DTSTAMP:20260426T072406
CREATED:20250504T103522Z
LAST-MODIFIED:20250504T103522Z
UID:14304-1746748800-1746835199@hempensteerns.nl
SUMMARY:De Bining: Tapcursus
DESCRIPTION:Tijd: 13:00 – 15:30 uur.
URL:https://hempensteerns.nl/agenda/de-bining-tapcursus/
END:VEVENT
BEGIN:VEVENT
DTSTART;TZID=Europe/Helsinki:20250425T000000
DTEND;TZID=Europe/Helsinki:20250425T235959
DTSTAMP:20260426T072406
CREATED:20250405T050912Z
LAST-MODIFIED:20250405T050912Z
UID:14279-1745539200-1745625599@hempensteerns.nl
SUMMARY:Café de Bining
DESCRIPTION:Vanaf 19:00 uur in dorpshuis De Bining.
URL:https://hempensteerns.nl/agenda/cafe-de-bining-6/
END:VEVENT
BEGIN:VEVENT
DTSTART;TZID=Europe/Helsinki:20250418T000000
DTEND;TZID=Europe/Helsinki:20250418T235959
DTSTAMP:20260426T072406
CREATED:20250405T050850Z
LAST-MODIFIED:20250405T050850Z
UID:14277-1744934400-1745020799@hempensteerns.nl
SUMMARY:Café de Bining
DESCRIPTION:Vanaf 19:00 uur in dorpshuis De Bining.
URL:https://hempensteerns.nl/agenda/cafe-de-bining-5/
END:VEVENT
BEGIN:VEVENT
DTSTART;TZID=Europe/Helsinki:20250415T000000
DTEND;TZID=Europe/Helsinki:20250415T235959
DTSTAMP:20260426T072406
CREATED:20250405T051022Z
LAST-MODIFIED:20250405T051022Z
UID:14283-1744675200-1744761599@hempensteerns.nl
SUMMARY:Oud papier wordt opgehaald
DESCRIPTION:
URL:https://hempensteerns.nl/agenda/oud-papier-wordt-opgehaald-2/
END:VEVENT
BEGIN:VEVENT
DTSTART;TZID=Europe/Helsinki:20250412T000000
DTEND;TZID=Europe/Helsinki:20250412T235959
DTSTAMP:20260426T072406
CREATED:20250405T050949Z
LAST-MODIFIED:20250405T050949Z
UID:14281-1744416000-1744502399@hempensteerns.nl
SUMMARY:Klaverjassen
DESCRIPTION:Vanaf 20:00 uur in dorpshuis De Bining.
URL:https://hempensteerns.nl/agenda/klaverjassen-17/
END:VEVENT
BEGIN:VEVENT
DTSTART;VALUE=DATE:20250412
DTEND;VALUE=DATE:20250413
DTSTAMP:20260426T072406
CREATED:20250305T072345Z
LAST-MODIFIED:20250305T072345Z
UID:14053-1744416000-1744502399@hempensteerns.nl
SUMMARY:Bining Pubquiz
DESCRIPTION:Vanaf 20:00 uur in dorpshuis de Bining.
URL:https://hempensteerns.nl/agenda/bining-pubquiz/
END:VEVENT
BEGIN:VEVENT
DTSTART;TZID=Europe/Helsinki:20250411T000000
DTEND;TZID=Europe/Helsinki:20250411T235959
DTSTAMP:20260426T072406
CREATED:20250405T050827Z
LAST-MODIFIED:20250405T050827Z
UID:14275-1744329600-1744415999@hempensteerns.nl
SUMMARY:Café de Bining
DESCRIPTION:Vanaf 19:00 uur in dorpshuis De Bining.
URL:https://hempensteerns.nl/agenda/cafe-de-bining-4/
END:VEVENT
BEGIN:VEVENT
DTSTART;VALUE=DATE:20250405
DTEND;VALUE=DATE:20250406
DTSTAMP:20260426T072406
CREATED:20250305T073121Z
LAST-MODIFIED:20250305T073121Z
UID:14060-1743811200-1743897599@hempensteerns.nl
SUMMARY:Bingo night
DESCRIPTION:Foute bingo in de Bining vanaf 20:00 uur.
URL:https://hempensteerns.nl/agenda/bingo-night/
END:VEVENT
BEGIN:VEVENT
DTSTART;TZID=Europe/Helsinki:20250404T000000
DTEND;TZID=Europe/Helsinki:20250404T235959
DTSTAMP:20260426T072406
CREATED:20250405T050754Z
LAST-MODIFIED:20250405T050754Z
UID:14273-1743724800-1743811199@hempensteerns.nl
SUMMARY:Café de Bining
DESCRIPTION:Vanaf 19:00 uur in dorpshuis De Bining.
URL:https://hempensteerns.nl/agenda/cafe-de-bining-3/
END:VEVENT
BEGIN:VEVENT
DTSTART;VALUE=DATE:20250331
DTEND;VALUE=DATE:20250401
DTSTAMP:20260426T072406
CREATED:20250305T073023Z
LAST-MODIFIED:20250305T073023Z
UID:14058-1743379200-1743465599@hempensteerns.nl
SUMMARY:Paas bloemschikken
DESCRIPTION:Paas bloemschikken in de Bining vanaf 19:30 uur.
URL:https://hempensteerns.nl/agenda/paas-bloemschikken/
END:VEVENT
BEGIN:VEVENT
DTSTART;VALUE=DATE:20250330
DTEND;VALUE=DATE:20250331
DTSTAMP:20260426T072406
CREATED:20250305T073311Z
LAST-MODIFIED:20250305T073311Z
UID:14062-1743292800-1743379199@hempensteerns.nl
SUMMARY:Kapelkuier
DESCRIPTION:De start is om 14:00 uur vanuit de kerk in Hempens.
URL:https://hempensteerns.nl/agenda/kapelkuier/
END:VEVENT
BEGIN:VEVENT
DTSTART;VALUE=DATE:20250328
DTEND;VALUE=DATE:20250329
DTSTAMP:20260426T072406
CREATED:20250305T074131Z
LAST-MODIFIED:20250305T074131Z
UID:14081-1743120000-1743206399@hempensteerns.nl
SUMMARY:Café de Bining
DESCRIPTION:Locatie: de Bining. \nStart: 19:00 uur.
URL:https://hempensteerns.nl/agenda/cafe-de-bining-2/
END:VEVENT
BEGIN:VEVENT
DTSTART;VALUE=DATE:20250322
DTEND;VALUE=DATE:20250323
DTSTAMP:20260426T072406
CREATED:20250305T074031Z
LAST-MODIFIED:20250305T074031Z
UID:14079-1742601600-1742687999@hempensteerns.nl
SUMMARY:OKK uitvoering
DESCRIPTION:Locatie: de Bining. \nStart: 20:00 uur.
URL:https://hempensteerns.nl/agenda/okk-uitvoering/
END:VEVENT
BEGIN:VEVENT
DTSTART;VALUE=DATE:20250322
DTEND;VALUE=DATE:20250323
DTSTAMP:20260426T072406
CREATED:20250305T072859Z
LAST-MODIFIED:20250305T072859Z
UID:14056-1742601600-1742687999@hempensteerns.nl
SUMMARY:Potgrondactie
DESCRIPTION:Leden van de korfbalclub Wez Warber & Fluch komen vrijdag 22 maart langs tussen 16:30 en 20:00 uur. Ze gaan van deur tot deur. Je kan potgrond kopen. Ze brengen het tot in je tuin.
URL:https://hempensteerns.nl/agenda/potgrondactie/
END:VEVENT
BEGIN:VEVENT
DTSTART;VALUE=DATE:20250321
DTEND;VALUE=DATE:20250322
DTSTAMP:20260426T072406
CREATED:20250305T074000Z
LAST-MODIFIED:20250305T074000Z
UID:14077-1742515200-1742601599@hempensteerns.nl
SUMMARY:Café de Bining
DESCRIPTION:Locatie: de Bining. \nStart: 19:00 uur.
URL:https://hempensteerns.nl/agenda/cafe-de-bining/
END:VEVENT
BEGIN:VEVENT
DTSTART;VALUE=DATE:20250318
DTEND;VALUE=DATE:20250319
DTSTAMP:20260426T072406
CREATED:20250305T073922Z
LAST-MODIFIED:20250305T073922Z
UID:14075-1742256000-1742342399@hempensteerns.nl
SUMMARY:Oud papier wordt opgehaald
DESCRIPTION:
URL:https://hempensteerns.nl/agenda/oud-papier-wordt-opgehaald/
END:VEVENT
BEGIN:VEVENT
DTSTART;VALUE=DATE:20250318
DTEND;VALUE=DATE:20250319
DTSTAMP:20260426T072406
CREATED:20250305T071429Z
LAST-MODIFIED:20250305T072528Z
UID:14047-1742256000-1742342399@hempensteerns.nl
SUMMARY:Algemene ledenvergadering ALV
DESCRIPTION:De ALV in dorpshuis de Bining begint om 19.30 uur.
URL:https://hempensteerns.nl/agenda/algemene-ledenvergadering-alv/
END:VEVENT
BEGIN:VEVENT
DTSTART;VALUE=DATE:20250314
DTEND;VALUE=DATE:20250315
DTSTAMP:20260426T072406
CREATED:20250305T073459Z
LAST-MODIFIED:20250305T073842Z
UID:14066-1741910400-1741996799@hempensteerns.nl
SUMMARY:Café de Bining
DESCRIPTION:Locatie: de Bining. \nStart: 19:00 uur.
URL:https://hempensteerns.nl/agenda/okk-repetitie/
END:VEVENT
BEGIN:VEVENT
DTSTART;VALUE=DATE:20250308
DTEND;VALUE=DATE:20250309
DTSTAMP:20260426T072406
CREATED:20250305T073534Z
LAST-MODIFIED:20250305T073757Z
UID:14068-1741392000-1741478399@hempensteerns.nl
SUMMARY:Klaverjassen
DESCRIPTION:Locatie: de Bining. \nStart: 20:00 uur.
URL:https://hempensteerns.nl/agenda/bh-band-12/
END:VEVENT
BEGIN:VEVENT
DTSTART;VALUE=DATE:20250307
DTEND;VALUE=DATE:20250308
DTSTAMP:20260426T072406
CREATED:20250305T073611Z
LAST-MODIFIED:20250305T073723Z
UID:14070-1741305600-1741391999@hempensteerns.nl
SUMMARY:Café de Bining
DESCRIPTION:Locatie: de Bining. \nStart: 19:00 uur.
URL:https://hempensteerns.nl/agenda/koor-zozumo/
END:VEVENT
BEGIN:VEVENT
DTSTART;VALUE=DATE:20250301
DTEND;VALUE=DATE:20250302
DTSTAMP:20260426T072406
CREATED:20250305T073415Z
LAST-MODIFIED:20250305T073415Z
UID:14064-1740787200-1740873599@hempensteerns.nl
SUMMARY:Klaverjasdrive
DESCRIPTION:Locatie: dorpshuis De Bining. \nStart: 15:00 uur.
URL:https://hempensteerns.nl/agenda/klaverjasdrive/
END:VEVENT
END:VCALENDAR