BEGIN:VCALENDAR
VERSION:2.0
PRODID:-//Hempens Teerns - ECPv6.15.20//NONSGML v1.0//EN
CALSCALE:GREGORIAN
METHOD:PUBLISH
X-WR-CALNAME:Hempens Teerns
X-ORIGINAL-URL:https://hempensteerns.nl
X-WR-CALDESC:Evenementen voor Hempens Teerns
REFRESH-INTERVAL;VALUE=DURATION:PT1H
X-Robots-Tag:noindex
X-PUBLISHED-TTL:PT1H
BEGIN:VTIMEZONE
TZID:Europe/Helsinki
BEGIN:DAYLIGHT
TZOFFSETFROM:+0200
TZOFFSETTO:+0300
TZNAME:EEST
DTSTART:20240331T010000
END:DAYLIGHT
BEGIN:STANDARD
TZOFFSETFROM:+0300
TZOFFSETTO:+0200
TZNAME:EET
DTSTART:20241027T010000
END:STANDARD
BEGIN:DAYLIGHT
TZOFFSETFROM:+0200
TZOFFSETTO:+0300
TZNAME:EEST
DTSTART:20250330T010000
END:DAYLIGHT
BEGIN:STANDARD
TZOFFSETFROM:+0300
TZOFFSETTO:+0200
TZNAME:EET
DTSTART:20251026T010000
END:STANDARD
BEGIN:DAYLIGHT
TZOFFSETFROM:+0200
TZOFFSETTO:+0300
TZNAME:EEST
DTSTART:20260329T010000
END:DAYLIGHT
BEGIN:STANDARD
TZOFFSETFROM:+0300
TZOFFSETTO:+0200
TZNAME:EET
DTSTART:20261025T010000
END:STANDARD
END:VTIMEZONE
BEGIN:VEVENT
DTSTART;TZID=Europe/Helsinki:20251116T000000
DTEND;TZID=Europe/Helsinki:20251116T235959
DTSTAMP:20260426T055838
CREATED:20251205T074858Z
LAST-MODIFIED:20251205T074858Z
UID:14491-1763251200-1763337599@hempensteerns.nl
SUMMARY:Martinus-middei
DESCRIPTION:Kom een kijkje nemen of een praatje maken in de Martinuskerk. Onder het genot van een hapje en drankje. \nTijd: 15:00 – 18:00 uur.
URL:https://hempensteerns.nl/agenda/martinus-middei/
END:VEVENT
BEGIN:VEVENT
DTSTART;TZID=Europe/Helsinki:20251114T000000
DTEND;TZID=Europe/Helsinki:20251114T235959
DTSTAMP:20260426T055838
CREATED:20251205T074445Z
LAST-MODIFIED:20251215T081450Z
UID:14487-1763078400-1763164799@hempensteerns.nl
SUMMARY:De Bining: Café de Bining
DESCRIPTION:Vanaf 19:00 uur.
URL:https://hempensteerns.nl/agenda/informatieavond-vanuit-werkgroep-brug-oxena-brids/
END:VEVENT
BEGIN:VEVENT
DTSTART;TZID=Europe/Helsinki:20251111T000000
DTEND;TZID=Europe/Helsinki:20251111T235959
DTSTAMP:20260426T055838
CREATED:20251215T081224Z
LAST-MODIFIED:20251215T081224Z
UID:14407-1762819200-1762905599@hempensteerns.nl
SUMMARY:Sint Maarten
DESCRIPTION:
URL:https://hempensteerns.nl/agenda/sint-maarten-3/
END:VEVENT
BEGIN:VEVENT
DTSTART;TZID=Europe/Helsinki:20251108T000000
DTEND;TZID=Europe/Helsinki:20251108T235959
DTSTAMP:20260426T055838
CREATED:20251003T132221Z
LAST-MODIFIED:20251003T132230Z
UID:14383-1762560000-1762646399@hempensteerns.nl
SUMMARY:De Bining: Klaverjassen
DESCRIPTION:Vanaf 20:00 uur.
URL:https://hempensteerns.nl/agenda/de-bining-klaverjassen-2/
END:VEVENT
BEGIN:VEVENT
DTSTART;TZID=Europe/Helsinki:20251107T000000
DTEND;TZID=Europe/Helsinki:20251107T235959
DTSTAMP:20260426T055838
CREATED:20251215T081116Z
LAST-MODIFIED:20251215T081116Z
UID:14303-1762473600-1762559999@hempensteerns.nl
SUMMARY:De Bining: Café de Bining
DESCRIPTION:Vanaf 19:00 uur
URL:https://hempensteerns.nl/agenda/de-bining-cafe-de-bining-6/
END:VEVENT
BEGIN:VEVENT
DTSTART;TZID=Europe/Helsinki:20251105T000000
DTEND;TZID=Europe/Helsinki:20251105T235959
DTSTAMP:20260426T055838
CREATED:20251215T080959Z
LAST-MODIFIED:20251215T080959Z
UID:14495-1762300800-1762387199@hempensteerns.nl
SUMMARY:De Bining: ZoZuMo
DESCRIPTION:20:00 uur
URL:https://hempensteerns.nl/agenda/de-bining-zozumo-5/
END:VEVENT
BEGIN:VEVENT
DTSTART;TZID=Europe/Helsinki:20251104T000000
DTEND;TZID=Europe/Helsinki:20251104T235959
DTSTAMP:20260426T055838
CREATED:20251010T080215Z
LAST-MODIFIED:20251010T080215Z
UID:14477-1762214400-1762300799@hempensteerns.nl
SUMMARY:Inloopavond m.b.t. de nieuwe brug
DESCRIPTION:Inloopavond in dorpshuis De Bining van 17:00 – 19:30 uur. Georganiseerd door de gemeente Leeuwarden.
URL:https://hempensteerns.nl/agenda/inloopavond-m-b-t-de-nieuwe-brug/
END:VEVENT
BEGIN:VEVENT
DTSTART;TZID=Europe/Helsinki:20251101T000000
DTEND;TZID=Europe/Helsinki:20251101T235959
DTSTAMP:20260426T055838
CREATED:20251003T133104Z
LAST-MODIFIED:20251003T133104Z
UID:14400-1761955200-1762041599@hempensteerns.nl
SUMMARY:De Bining: Halloween Knutselcafé
DESCRIPTION:Van 10:00 – 12: 00 uur. \nLeeftijd: 2- 8 jaar. \n€ 5\,- per kind. Dit is inclusief ranja en een kop koffie voor de begeleider. \n\nVleermuizen en spoken maken.\nCupcakes versieren.\nEen heksenhoed of tovenaarshoed maken.\n\nOpgeven kan via bining.hempens@gmail.com. \n 
URL:https://hempensteerns.nl/agenda/de-bining-halloween-knutselcafe/
END:VEVENT
BEGIN:VEVENT
DTSTART;TZID=Europe/Helsinki:20251031T000000
DTEND;TZID=Europe/Helsinki:20251031T235959
DTSTAMP:20260426T055838
CREATED:20251003T135358Z
LAST-MODIFIED:20251003T135358Z
UID:14466-1761868800-1761955199@hempensteerns.nl
SUMMARY:De Bining: Café De Bining
DESCRIPTION:Vanaf 19:00 uur
URL:https://hempensteerns.nl/agenda/de-bining-cafe-de-bining-5/
END:VEVENT
BEGIN:VEVENT
DTSTART;TZID=Europe/Helsinki:20251031T000000
DTEND;TZID=Europe/Helsinki:20251031T235959
DTSTAMP:20260426T055838
CREATED:20251003T135333Z
LAST-MODIFIED:20251003T135333Z
UID:14464-1761868800-1761955199@hempensteerns.nl
SUMMARY:De Bining: DesNotes
DESCRIPTION:16:30 uur
URL:https://hempensteerns.nl/agenda/de-bining-desnotes-3/
END:VEVENT
BEGIN:VEVENT
DTSTART;TZID=Europe/Helsinki:20251030T000000
DTEND;TZID=Europe/Helsinki:20251030T235959
DTSTAMP:20260426T055838
CREATED:20251003T135304Z
LAST-MODIFIED:20251003T135304Z
UID:14462-1761782400-1761868799@hempensteerns.nl
SUMMARY:De Bining: OKK repetitie
DESCRIPTION:19:30 uur
URL:https://hempensteerns.nl/agenda/de-bining-okk-repetitie-9/
END:VEVENT
BEGIN:VEVENT
DTSTART;TZID=Europe/Helsinki:20251030T000000
DTEND;TZID=Europe/Helsinki:20251030T235959
DTSTAMP:20260426T055838
CREATED:20251003T132654Z
LAST-MODIFIED:20251003T132758Z
UID:14397-1761782400-1761868799@hempensteerns.nl
SUMMARY:Halloween-spokentocht
DESCRIPTION:18:30 – 19:30 uur (8 jaar en jonger). \n19:00 – 21:00 uur (9 jaar en ouder). \nStart en einde in de kerk.
URL:https://hempensteerns.nl/agenda/halloween-spokentocht/
END:VEVENT
BEGIN:VEVENT
DTSTART;TZID=Europe/Helsinki:20251029T000000
DTEND;TZID=Europe/Helsinki:20251029T235959
DTSTAMP:20260426T055838
CREATED:20251003T135237Z
LAST-MODIFIED:20251003T135237Z
UID:14460-1761696000-1761782399@hempensteerns.nl
SUMMARY:De Bining: Verkiezingen
DESCRIPTION:
URL:https://hempensteerns.nl/agenda/de-bining-verkiezingen/
END:VEVENT
BEGIN:VEVENT
DTSTART;TZID=Europe/Helsinki:20251028T000000
DTEND;TZID=Europe/Helsinki:20251028T235959
DTSTAMP:20260426T055838
CREATED:20251003T135220Z
LAST-MODIFIED:20251003T135220Z
UID:14458-1761609600-1761695999@hempensteerns.nl
SUMMARY:De Bining: Oud papier
DESCRIPTION:
URL:https://hempensteerns.nl/agenda/de-bining-oud-papier/
END:VEVENT
BEGIN:VEVENT
DTSTART;TZID=Europe/Helsinki:20251027T000000
DTEND;TZID=Europe/Helsinki:20251027T235959
DTSTAMP:20260426T055838
CREATED:20251003T134916Z
LAST-MODIFIED:20251003T134916Z
UID:14456-1761523200-1761609599@hempensteerns.nl
SUMMARY:De Bining: OKK repetitie
DESCRIPTION:19:30 uur
URL:https://hempensteerns.nl/agenda/de-bining-okk-repetitie-8/
END:VEVENT
BEGIN:VEVENT
DTSTART;TZID=Europe/Helsinki:20251024T000000
DTEND;TZID=Europe/Helsinki:20251024T235959
DTSTAMP:20260426T055838
CREATED:20251003T134854Z
LAST-MODIFIED:20251003T134854Z
UID:14454-1761264000-1761350399@hempensteerns.nl
SUMMARY:De Bining: Café De Bining
DESCRIPTION:Vanaf 19:00 uur
URL:https://hempensteerns.nl/agenda/de-bining-cafe-de-bining-4/
END:VEVENT
BEGIN:VEVENT
DTSTART;TZID=Europe/Helsinki:20251023T000000
DTEND;TZID=Europe/Helsinki:20251023T235959
DTSTAMP:20260426T055838
CREATED:20251003T134825Z
LAST-MODIFIED:20251003T134825Z
UID:14452-1761177600-1761263999@hempensteerns.nl
SUMMARY:De Bining: OKK repetitie
DESCRIPTION:19:30 uur
URL:https://hempensteerns.nl/agenda/de-bining-okk-repetitie-7/
END:VEVENT
BEGIN:VEVENT
DTSTART;TZID=Europe/Helsinki:20251022T000000
DTEND;TZID=Europe/Helsinki:20251022T235959
DTSTAMP:20260426T055838
CREATED:20251003T134802Z
LAST-MODIFIED:20251003T134802Z
UID:14450-1761091200-1761177599@hempensteerns.nl
SUMMARY:De Bining: ZoZuMo
DESCRIPTION:20:00 uur
URL:https://hempensteerns.nl/agenda/de-bining-zozumo-4/
END:VEVENT
BEGIN:VEVENT
DTSTART;TZID=Europe/Helsinki:20251022T000000
DTEND;TZID=Europe/Helsinki:20251022T235959
DTSTAMP:20260426T055838
CREATED:20251003T134738Z
LAST-MODIFIED:20251003T134738Z
UID:14448-1761091200-1761177599@hempensteerns.nl
SUMMARY:De Bining: B&H band
DESCRIPTION:11:00 uur
URL:https://hempensteerns.nl/agenda/de-bining-bh-band-4/
END:VEVENT
BEGIN:VEVENT
DTSTART;TZID=Europe/Helsinki:20251020T000000
DTEND;TZID=Europe/Helsinki:20251020T235959
DTSTAMP:20260426T055838
CREATED:20251003T134719Z
LAST-MODIFIED:20251003T134719Z
UID:14446-1760918400-1761004799@hempensteerns.nl
SUMMARY:De Bining: OKK repetitie
DESCRIPTION:19:30 uur
URL:https://hempensteerns.nl/agenda/de-bining-okk-repetitie-6/
END:VEVENT
BEGIN:VEVENT
DTSTART;TZID=Europe/Helsinki:20251017T000000
DTEND;TZID=Europe/Helsinki:20251017T235959
DTSTAMP:20260426T055838
CREATED:20251003T134656Z
LAST-MODIFIED:20251003T134656Z
UID:14444-1760659200-1760745599@hempensteerns.nl
SUMMARY:De Bining: Café de Bining
DESCRIPTION:Vanaf 19:00 uur
URL:https://hempensteerns.nl/agenda/de-bining-cafe-de-bining-3/
END:VEVENT
BEGIN:VEVENT
DTSTART;TZID=Europe/Helsinki:20251017T000000
DTEND;TZID=Europe/Helsinki:20251017T235959
DTSTAMP:20260426T055838
CREATED:20251003T134625Z
LAST-MODIFIED:20251003T134625Z
UID:14442-1760659200-1760745599@hempensteerns.nl
SUMMARY:De Bining: DesNotes
DESCRIPTION:16:30 uur
URL:https://hempensteerns.nl/agenda/de-bining-desnotes-2/
END:VEVENT
BEGIN:VEVENT
DTSTART;TZID=Europe/Helsinki:20251016T000000
DTEND;TZID=Europe/Helsinki:20251016T235959
DTSTAMP:20260426T055838
CREATED:20251003T134601Z
LAST-MODIFIED:20251003T134601Z
UID:14440-1760572800-1760659199@hempensteerns.nl
SUMMARY:De Bining: OKK repetitie
DESCRIPTION:19:30 uur
URL:https://hempensteerns.nl/agenda/de-bining-okk-repetitie-5/
END:VEVENT
BEGIN:VEVENT
DTSTART;TZID=Europe/Helsinki:20251015T000000
DTEND;TZID=Europe/Helsinki:20251015T235959
DTSTAMP:20260426T055838
CREATED:20251003T134532Z
LAST-MODIFIED:20251003T134532Z
UID:14438-1760486400-1760572799@hempensteerns.nl
SUMMARY:De Bining: ZoZuMo
DESCRIPTION:20:00 uur
URL:https://hempensteerns.nl/agenda/de-bining-zozumo-3/
END:VEVENT
BEGIN:VEVENT
DTSTART;TZID=Europe/Helsinki:20251015T000000
DTEND;TZID=Europe/Helsinki:20251015T235959
DTSTAMP:20260426T055838
CREATED:20251003T134502Z
LAST-MODIFIED:20251003T134502Z
UID:14436-1760486400-1760572799@hempensteerns.nl
SUMMARY:De Bining: B&H band
DESCRIPTION:11:00 uur
URL:https://hempensteerns.nl/agenda/de-bining-bh-band-3/
END:VEVENT
BEGIN:VEVENT
DTSTART;TZID=Europe/Helsinki:20251014T000000
DTEND;TZID=Europe/Helsinki:20251014T235959
DTSTAMP:20260426T055838
CREATED:20251003T134438Z
LAST-MODIFIED:20251003T134438Z
UID:14434-1760400000-1760486399@hempensteerns.nl
SUMMARY:De Bining: Jeu de Boules
DESCRIPTION:19:00 uur
URL:https://hempensteerns.nl/agenda/de-bining-jeu-de-boules-2/
END:VEVENT
BEGIN:VEVENT
DTSTART;TZID=Europe/Helsinki:20251013T000000
DTEND;TZID=Europe/Helsinki:20251013T235959
DTSTAMP:20260426T055838
CREATED:20251003T134413Z
LAST-MODIFIED:20251003T134413Z
UID:14432-1760313600-1760399999@hempensteerns.nl
SUMMARY:De Bining: OKK repetitie
DESCRIPTION:19:30 uur
URL:https://hempensteerns.nl/agenda/de-bining-okk-repetitie-4/
END:VEVENT
BEGIN:VEVENT
DTSTART;TZID=Europe/Helsinki:20251012T000000
DTEND;TZID=Europe/Helsinki:20251012T235959
DTSTAMP:20260426T055838
CREATED:20251003T133651Z
LAST-MODIFIED:20251003T133651Z
UID:14404-1760227200-1760313599@hempensteerns.nl
SUMMARY:Viering en Kapelkuier
DESCRIPTION:14:00 – 16:00 uur. \nMartinuskerk Hempens.
URL:https://hempensteerns.nl/agenda/viering-en-kapelkuier/
END:VEVENT
BEGIN:VEVENT
DTSTART;TZID=Europe/Helsinki:20251011T000000
DTEND;TZID=Europe/Helsinki:20251011T235959
DTSTAMP:20260426T055838
CREATED:20251003T132157Z
LAST-MODIFIED:20251003T132250Z
UID:14381-1760140800-1760227199@hempensteerns.nl
SUMMARY:De Bining: Klaverjassen
DESCRIPTION:Vanaf 20:00 uur.
URL:https://hempensteerns.nl/agenda/de-bining-klaverjassen/
END:VEVENT
BEGIN:VEVENT
DTSTART;TZID=Europe/Helsinki:20251010T000000
DTEND;TZID=Europe/Helsinki:20251010T235959
DTSTAMP:20260426T055838
CREATED:20251003T134344Z
LAST-MODIFIED:20251003T134344Z
UID:14430-1760054400-1760140799@hempensteerns.nl
SUMMARY:De Bining: Café De Bining
DESCRIPTION:Vanaf 19:00 uur
URL:https://hempensteerns.nl/agenda/de-bining-cafe-de-bining-2/
END:VEVENT
END:VCALENDAR