BEGIN:VCALENDAR
VERSION:2.0
PRODID:-//Hempens Teerns - ECPv6.15.20//NONSGML v1.0//EN
CALSCALE:GREGORIAN
METHOD:PUBLISH
X-WR-CALNAME:Hempens Teerns
X-ORIGINAL-URL:https://hempensteerns.nl
X-WR-CALDESC:Evenementen voor Hempens Teerns
REFRESH-INTERVAL;VALUE=DURATION:PT1H
X-Robots-Tag:noindex
X-PUBLISHED-TTL:PT1H
BEGIN:VTIMEZONE
TZID:Europe/Helsinki
BEGIN:DAYLIGHT
TZOFFSETFROM:+0200
TZOFFSETTO:+0300
TZNAME:EEST
DTSTART:20240331T010000
END:DAYLIGHT
BEGIN:STANDARD
TZOFFSETFROM:+0300
TZOFFSETTO:+0200
TZNAME:EET
DTSTART:20241027T010000
END:STANDARD
BEGIN:DAYLIGHT
TZOFFSETFROM:+0200
TZOFFSETTO:+0300
TZNAME:EEST
DTSTART:20250330T010000
END:DAYLIGHT
BEGIN:STANDARD
TZOFFSETFROM:+0300
TZOFFSETTO:+0200
TZNAME:EET
DTSTART:20251026T010000
END:STANDARD
BEGIN:DAYLIGHT
TZOFFSETFROM:+0200
TZOFFSETTO:+0300
TZNAME:EEST
DTSTART:20260329T010000
END:DAYLIGHT
BEGIN:STANDARD
TZOFFSETFROM:+0300
TZOFFSETTO:+0200
TZNAME:EET
DTSTART:20261025T010000
END:STANDARD
BEGIN:DAYLIGHT
TZOFFSETFROM:+0200
TZOFFSETTO:+0300
TZNAME:EEST
DTSTART:20270328T010000
END:DAYLIGHT
BEGIN:STANDARD
TZOFFSETFROM:+0300
TZOFFSETTO:+0200
TZNAME:EET
DTSTART:20271031T010000
END:STANDARD
END:VTIMEZONE
BEGIN:VEVENT
DTSTART;TZID=Europe/Helsinki:20260109T000000
DTEND;TZID=Europe/Helsinki:20260109T235959
DTSTAMP:20260426T060012
CREATED:20251228T093923Z
LAST-MODIFIED:20251228T093923Z
UID:14547-1767916800-1768003199@hempensteerns.nl
SUMMARY:De Bining: Café de Bining
DESCRIPTION:Vanaf 19:00 uur.
URL:https://hempensteerns.nl/agenda/de-bining-cafe-de-bining-11/
END:VEVENT
BEGIN:VEVENT
DTSTART;TZID=Europe/Helsinki:20251231T000000
DTEND;TZID=Europe/Helsinki:20251231T235959
DTSTAMP:20260426T060012
CREATED:20251215T083754Z
LAST-MODIFIED:20251228T094429Z
UID:14540-1767139200-1767225599@hempensteerns.nl
SUMMARY:De Bining: Oliebollen en gezellig samenzijn
DESCRIPTION:Van 16:00 – 18:00 uur.
URL:https://hempensteerns.nl/agenda/de-bining-oudjaarsborrel/
END:VEVENT
BEGIN:VEVENT
DTSTART;TZID=Europe/Helsinki:20251223T000000
DTEND;TZID=Europe/Helsinki:20251223T235959
DTSTAMP:20260426T060012
CREATED:20251215T083720Z
LAST-MODIFIED:20251215T083720Z
UID:14538-1766448000-1766534399@hempensteerns.nl
SUMMARY:Oud papier wordt opgehaald
DESCRIPTION:
URL:https://hempensteerns.nl/agenda/oud-papier-wordt-opgehaald-5/
END:VEVENT
BEGIN:VEVENT
DTSTART;TZID=Europe/Helsinki:20251223T000000
DTEND;TZID=Europe/Helsinki:20251223T235959
DTSTAMP:20260426T060012
CREATED:20251205T075349Z
LAST-MODIFIED:20251205T075349Z
UID:14493-1766448000-1766534399@hempensteerns.nl
SUMMARY:Presentatie cd en boek van Sido Martens
DESCRIPTION:Sido presenteert ene nieuw boek ‘De Kwijvogels’ en een nieuwe cd ‘H.O.E.R.A.’. \nLocatie: Martinuskerk. \nTijd: 15:00 – 17:00 uur. Inloop vanaf 14:30 uur. \nKosten: € 5\,- per persoon. Koop je een cd en/of boek\, dan krijg je de entree kado. \nReserveren is verplicht en kan tot 18 november via info@sidomartens.nl.
URL:https://hempensteerns.nl/agenda/presentatie-cd-en-boek-van-sido-martens/
END:VEVENT
BEGIN:VEVENT
DTSTART;TZID=Europe/Helsinki:20251221T000000
DTEND;TZID=Europe/Helsinki:20251221T235959
DTSTAMP:20260426T060012
CREATED:20251215T083700Z
LAST-MODIFIED:20251215T083700Z
UID:14536-1766275200-1766361599@hempensteerns.nl
SUMMARY:De Bining: Toneel 'Vroeger had je hofjes'
DESCRIPTION:Van 14:30 – 16:00 uur.
URL:https://hempensteerns.nl/agenda/de-bining-toneel-vroeger-had-je-hofjes/
END:VEVENT
BEGIN:VEVENT
DTSTART;TZID=Europe/Helsinki:20251219T000000
DTEND;TZID=Europe/Helsinki:20251219T235959
DTSTAMP:20260426T060012
CREATED:20251215T082830Z
LAST-MODIFIED:20251215T082830Z
UID:14519-1766102400-1766188799@hempensteerns.nl
SUMMARY:Kerstconcert DesNotes
DESCRIPTION:Locatie: De Bining. \nTijd: 17:30 – 18:30 uur. Inloop vanaf 17:15 uur. \nAansluitend Kerst Café de Bining. \n 
URL:https://hempensteerns.nl/agenda/kerstconcert-desnotes/
END:VEVENT
BEGIN:VEVENT
DTSTART;TZID=Europe/Helsinki:20251217T000000
DTEND;TZID=Europe/Helsinki:20251217T235959
DTSTAMP:20260426T060012
CREATED:20251215T083553Z
LAST-MODIFIED:20251215T083553Z
UID:14534-1765929600-1766015999@hempensteerns.nl
SUMMARY:De Bining: ZoZuMo
DESCRIPTION:Vanaf 20:00 uur.
URL:https://hempensteerns.nl/agenda/de-bining-zozumo-10/
END:VEVENT
BEGIN:VEVENT
DTSTART;TZID=Europe/Helsinki:20251216T000000
DTEND;TZID=Europe/Helsinki:20251216T235959
DTSTAMP:20260426T060012
CREATED:20251215T083515Z
LAST-MODIFIED:20251215T083515Z
UID:14532-1765843200-1765929599@hempensteerns.nl
SUMMARY:De Bining: Energie coöperatie Stroomland
DESCRIPTION:Vanaf 19:30 uur.
URL:https://hempensteerns.nl/agenda/de-bining-energie-cooperatie-stroomland/
END:VEVENT
BEGIN:VEVENT
DTSTART;TZID=Europe/Helsinki:20251215T080000
DTEND;TZID=Europe/Helsinki:20251215T170000
DTSTAMP:20260426T060012
CREATED:20251215T082943Z
LAST-MODIFIED:20251215T082943Z
UID:14521-1765785600-1765818000@hempensteerns.nl
SUMMARY:De Bining: Kerstcafé de Bining
DESCRIPTION:Vanaf 19:00 uur\, maar…van 17:30 – 18:30 uur treedt Popkoor DesNotes op. Inloop vanaf 17:15 uur. \n 
URL:https://hempensteerns.nl/agenda/de-bining-kerstcafe-de-bining/
END:VEVENT
BEGIN:VEVENT
DTSTART;TZID=Europe/Helsinki:20251213T000000
DTEND;TZID=Europe/Helsinki:20251213T235959
DTSTAMP:20260426T060012
CREATED:20251003T132318Z
LAST-MODIFIED:20251003T132318Z
UID:14385-1765584000-1765670399@hempensteerns.nl
SUMMARY:De Bining: Klaverjassen
DESCRIPTION:Vanaf 20:00 uur.
URL:https://hempensteerns.nl/agenda/de-bining-klaverjassen-3/
END:VEVENT
BEGIN:VEVENT
DTSTART;TZID=Europe/Helsinki:20251212T000000
DTEND;TZID=Europe/Helsinki:20251212T235959
DTSTAMP:20260426T060012
CREATED:20251215T083354Z
LAST-MODIFIED:20251215T083354Z
UID:14530-1765497600-1765583999@hempensteerns.nl
SUMMARY:De Bining: Café de Bining
DESCRIPTION:Vanaf 19:00 uur.
URL:https://hempensteerns.nl/agenda/de-bining-cafe-de-bining-10/
END:VEVENT
BEGIN:VEVENT
DTSTART;TZID=Europe/Helsinki:20251210T000000
DTEND;TZID=Europe/Helsinki:20251210T235959
DTSTAMP:20260426T060012
CREATED:20251215T083324Z
LAST-MODIFIED:20251215T083324Z
UID:14528-1765324800-1765411199@hempensteerns.nl
SUMMARY:De Bining: ZoZuMo
DESCRIPTION:Vanaf 20:00 uur.
URL:https://hempensteerns.nl/agenda/de-bining-zozumo-9/
END:VEVENT
BEGIN:VEVENT
DTSTART;TZID=Europe/Helsinki:20251209T000000
DTEND;TZID=Europe/Helsinki:20251209T235959
DTSTAMP:20260426T060012
CREATED:20251205T074714Z
LAST-MODIFIED:20251215T083255Z
UID:14489-1765238400-1765324799@hempensteerns.nl
SUMMARY:Kerststukje maken
DESCRIPTION:Tijd: 19:30 – 21:30 uur.\nLocatie: Dorpshuis de Bining.\nKosten: € 10\,-. (inclusief een welkomstdrankje\, groen\, versiering en oase).\n\nOpgeven kan via Marije of Tineke.
URL:https://hempensteerns.nl/agenda/kerstballenschikken/
END:VEVENT
BEGIN:VEVENT
DTSTART;TZID=Europe/Helsinki:20251205T000000
DTEND;TZID=Europe/Helsinki:20251205T235959
DTSTAMP:20260426T060012
CREATED:20251215T083127Z
LAST-MODIFIED:20251215T083127Z
UID:14525-1764892800-1764979199@hempensteerns.nl
SUMMARY:De Bining: Café de Bining
DESCRIPTION:Vanaf 19:00 uur.
URL:https://hempensteerns.nl/agenda/de-bining-cafe-de-bining-9/
END:VEVENT
BEGIN:VEVENT
DTSTART;TZID=Europe/Helsinki:20251203T000000
DTEND;TZID=Europe/Helsinki:20251203T235959
DTSTAMP:20260426T060012
CREATED:20251215T083101Z
LAST-MODIFIED:20251215T083101Z
UID:14523-1764720000-1764806399@hempensteerns.nl
SUMMARY:De Bining: ZoZuMo
DESCRIPTION:Vanaf 20:00 uur.
URL:https://hempensteerns.nl/agenda/de-bining-zozumo-8/
END:VEVENT
BEGIN:VEVENT
DTSTART;TZID=Europe/Helsinki:20251128T000000
DTEND;TZID=Europe/Helsinki:20251128T235959
DTSTAMP:20260426T060012
CREATED:20251215T081837Z
LAST-MODIFIED:20251215T081837Z
UID:14511-1764288000-1764374399@hempensteerns.nl
SUMMARY:De Bining: Café de Bining
DESCRIPTION:Vanaf 19:00 uur.
URL:https://hempensteerns.nl/agenda/de-bining-cafe-de-bining-8/
END:VEVENT
BEGIN:VEVENT
DTSTART;TZID=Europe/Helsinki:20251126T000000
DTEND;TZID=Europe/Helsinki:20251126T235959
DTSTAMP:20260426T060012
CREATED:20251215T081809Z
LAST-MODIFIED:20251215T081809Z
UID:14509-1764115200-1764201599@hempensteerns.nl
SUMMARY:De Bining: ZoZuMo
DESCRIPTION:Vanaf 20:00 uur.
URL:https://hempensteerns.nl/agenda/de-bining-zozumo-7/
END:VEVENT
BEGIN:VEVENT
DTSTART;TZID=Europe/Helsinki:20251125T000000
DTEND;TZID=Europe/Helsinki:20251125T235959
DTSTAMP:20260426T060012
CREATED:20251215T081735Z
LAST-MODIFIED:20251215T081735Z
UID:14507-1764028800-1764115199@hempensteerns.nl
SUMMARY:Oud papier wordt opgehaald
DESCRIPTION:
URL:https://hempensteerns.nl/agenda/oud-papier-wordt-opgehaald-4/
END:VEVENT
BEGIN:VEVENT
DTSTART;TZID=Europe/Helsinki:20251123T000000
DTEND;TZID=Europe/Helsinki:20251123T235959
DTSTAMP:20260426T060012
CREATED:20251215T081710Z
LAST-MODIFIED:20251215T081710Z
UID:14505-1763856000-1763942399@hempensteerns.nl
SUMMARY:De Bining: Sinterklaasfeest
DESCRIPTION:Vanaf 13:00 uur.
URL:https://hempensteerns.nl/agenda/de-bining-sinterklaasfeest/
END:VEVENT
BEGIN:VEVENT
DTSTART;TZID=Europe/Helsinki:20251123T000000
DTEND;TZID=Europe/Helsinki:20251123T235959
DTSTAMP:20260426T060013
CREATED:20251003T132619Z
LAST-MODIFIED:20251003T132619Z
UID:14395-1763856000-1763942399@hempensteerns.nl
SUMMARY:Sint en zijn pieten komen aan
DESCRIPTION:
URL:https://hempensteerns.nl/agenda/sint-en-zijn-pieten-komen-aan/
END:VEVENT
BEGIN:VEVENT
DTSTART;TZID=Europe/Helsinki:20251121T000000
DTEND;TZID=Europe/Helsinki:20251121T235959
DTSTAMP:20260426T060013
CREATED:20251215T081634Z
LAST-MODIFIED:20251215T081634Z
UID:14503-1763683200-1763769599@hempensteerns.nl
SUMMARY:De Bining: Café de Bining
DESCRIPTION:Vanaf 19:00 uur.
URL:https://hempensteerns.nl/agenda/de-bining-cafe-de-bining-7/
END:VEVENT
BEGIN:VEVENT
DTSTART;TZID=Europe/Helsinki:20251119T000000
DTEND;TZID=Europe/Helsinki:20251119T235959
DTSTAMP:20260426T060013
CREATED:20251215T081555Z
LAST-MODIFIED:20251215T081555Z
UID:14501-1763510400-1763596799@hempensteerns.nl
SUMMARY:De Bining: ZoZuMo
DESCRIPTION:Vanaf 20:00 uur.
URL:https://hempensteerns.nl/agenda/de-bining-zozumo-6/
END:VEVENT
BEGIN:VEVENT
DTSTART;TZID=Europe/Helsinki:20251116T000000
DTEND;TZID=Europe/Helsinki:20251116T235959
DTSTAMP:20260426T060013
CREATED:20251205T074858Z
LAST-MODIFIED:20251205T074858Z
UID:14491-1763251200-1763337599@hempensteerns.nl
SUMMARY:Martinus-middei
DESCRIPTION:Kom een kijkje nemen of een praatje maken in de Martinuskerk. Onder het genot van een hapje en drankje. \nTijd: 15:00 – 18:00 uur.
URL:https://hempensteerns.nl/agenda/martinus-middei/
END:VEVENT
BEGIN:VEVENT
DTSTART;TZID=Europe/Helsinki:20251114T000000
DTEND;TZID=Europe/Helsinki:20251114T235959
DTSTAMP:20260426T060013
CREATED:20251205T074445Z
LAST-MODIFIED:20251215T081450Z
UID:14487-1763078400-1763164799@hempensteerns.nl
SUMMARY:De Bining: Café de Bining
DESCRIPTION:Vanaf 19:00 uur.
URL:https://hempensteerns.nl/agenda/informatieavond-vanuit-werkgroep-brug-oxena-brids/
END:VEVENT
BEGIN:VEVENT
DTSTART;TZID=Europe/Helsinki:20251111T000000
DTEND;TZID=Europe/Helsinki:20251111T235959
DTSTAMP:20260426T060013
CREATED:20251215T081224Z
LAST-MODIFIED:20251215T081224Z
UID:14407-1762819200-1762905599@hempensteerns.nl
SUMMARY:Sint Maarten
DESCRIPTION:
URL:https://hempensteerns.nl/agenda/sint-maarten-3/
END:VEVENT
BEGIN:VEVENT
DTSTART;TZID=Europe/Helsinki:20251108T000000
DTEND;TZID=Europe/Helsinki:20251108T235959
DTSTAMP:20260426T060013
CREATED:20251003T132221Z
LAST-MODIFIED:20251003T132230Z
UID:14383-1762560000-1762646399@hempensteerns.nl
SUMMARY:De Bining: Klaverjassen
DESCRIPTION:Vanaf 20:00 uur.
URL:https://hempensteerns.nl/agenda/de-bining-klaverjassen-2/
END:VEVENT
BEGIN:VEVENT
DTSTART;TZID=Europe/Helsinki:20251107T000000
DTEND;TZID=Europe/Helsinki:20251107T235959
DTSTAMP:20260426T060013
CREATED:20251215T081116Z
LAST-MODIFIED:20251215T081116Z
UID:14303-1762473600-1762559999@hempensteerns.nl
SUMMARY:De Bining: Café de Bining
DESCRIPTION:Vanaf 19:00 uur
URL:https://hempensteerns.nl/agenda/de-bining-cafe-de-bining-6/
END:VEVENT
BEGIN:VEVENT
DTSTART;TZID=Europe/Helsinki:20251105T000000
DTEND;TZID=Europe/Helsinki:20251105T235959
DTSTAMP:20260426T060013
CREATED:20251215T080959Z
LAST-MODIFIED:20251215T080959Z
UID:14495-1762300800-1762387199@hempensteerns.nl
SUMMARY:De Bining: ZoZuMo
DESCRIPTION:20:00 uur
URL:https://hempensteerns.nl/agenda/de-bining-zozumo-5/
END:VEVENT
BEGIN:VEVENT
DTSTART;TZID=Europe/Helsinki:20251104T000000
DTEND;TZID=Europe/Helsinki:20251104T235959
DTSTAMP:20260426T060013
CREATED:20251010T080215Z
LAST-MODIFIED:20251010T080215Z
UID:14477-1762214400-1762300799@hempensteerns.nl
SUMMARY:Inloopavond m.b.t. de nieuwe brug
DESCRIPTION:Inloopavond in dorpshuis De Bining van 17:00 – 19:30 uur. Georganiseerd door de gemeente Leeuwarden.
URL:https://hempensteerns.nl/agenda/inloopavond-m-b-t-de-nieuwe-brug/
END:VEVENT
BEGIN:VEVENT
DTSTART;TZID=Europe/Helsinki:20251101T000000
DTEND;TZID=Europe/Helsinki:20251101T235959
DTSTAMP:20260426T060013
CREATED:20251003T133104Z
LAST-MODIFIED:20251003T133104Z
UID:14400-1761955200-1762041599@hempensteerns.nl
SUMMARY:De Bining: Halloween Knutselcafé
DESCRIPTION:Van 10:00 – 12: 00 uur. \nLeeftijd: 2- 8 jaar. \n€ 5\,- per kind. Dit is inclusief ranja en een kop koffie voor de begeleider. \n\nVleermuizen en spoken maken.\nCupcakes versieren.\nEen heksenhoed of tovenaarshoed maken.\n\nOpgeven kan via bining.hempens@gmail.com. \n 
URL:https://hempensteerns.nl/agenda/de-bining-halloween-knutselcafe/
END:VEVENT
END:VCALENDAR