BEGIN:VCALENDAR
VERSION:2.0
PRODID:-//Hempens Teerns - ECPv6.15.20//NONSGML v1.0//EN
CALSCALE:GREGORIAN
METHOD:PUBLISH
X-WR-CALNAME:Hempens Teerns
X-ORIGINAL-URL:https://hempensteerns.nl
X-WR-CALDESC:Evenementen voor Hempens Teerns
REFRESH-INTERVAL;VALUE=DURATION:PT1H
X-Robots-Tag:noindex
X-PUBLISHED-TTL:PT1H
BEGIN:VTIMEZONE
TZID:Europe/Helsinki
BEGIN:DAYLIGHT
TZOFFSETFROM:+0200
TZOFFSETTO:+0300
TZNAME:EEST
DTSTART:20250330T010000
END:DAYLIGHT
BEGIN:STANDARD
TZOFFSETFROM:+0300
TZOFFSETTO:+0200
TZNAME:EET
DTSTART:20251026T010000
END:STANDARD
BEGIN:DAYLIGHT
TZOFFSETFROM:+0200
TZOFFSETTO:+0300
TZNAME:EEST
DTSTART:20260329T010000
END:DAYLIGHT
BEGIN:STANDARD
TZOFFSETFROM:+0300
TZOFFSETTO:+0200
TZNAME:EET
DTSTART:20261025T010000
END:STANDARD
BEGIN:DAYLIGHT
TZOFFSETFROM:+0200
TZOFFSETTO:+0300
TZNAME:EEST
DTSTART:20270328T010000
END:DAYLIGHT
BEGIN:STANDARD
TZOFFSETFROM:+0300
TZOFFSETTO:+0200
TZNAME:EET
DTSTART:20271031T010000
END:STANDARD
END:VTIMEZONE
BEGIN:VEVENT
DTSTART;TZID=Europe/Helsinki:20260228T000000
DTEND;TZID=Europe/Helsinki:20260228T235959
DTSTAMP:20260426T031129
CREATED:20260211T074629Z
LAST-MODIFIED:20260211T074629Z
UID:14566-1772236800-1772323199@hempensteerns.nl
SUMMARY:De Bining: Disco Kids-Party
DESCRIPTION:17:00 – 20:00 uur. \nInclusief patat en limo en je kan je laten schminken. \nAanmelden? Scan de QR-code in dorpsblad Bregenijs.
URL:https://hempensteerns.nl/agenda/de-bining-disco-kids-party/
END:VEVENT
BEGIN:VEVENT
DTSTART;TZID=Europe/Helsinki:20260227T000000
DTEND;TZID=Europe/Helsinki:20260227T235959
DTSTAMP:20260426T031129
CREATED:20260320T125458Z
LAST-MODIFIED:20260320T125458Z
UID:14624-1772150400-1772236799@hempensteerns.nl
SUMMARY:De Bining: Disco Kids-Party
DESCRIPTION:17:00 – 20:00 uur. \nInclusief patat en limo. \nJe kan je zelfs laten schminken! \nAanmelden kan via de QR code in het dorpsblad. \nToegang is gratis.
URL:https://hempensteerns.nl/agenda/de-bining-disco-kids-party-2/
END:VEVENT
BEGIN:VEVENT
DTSTART;TZID=Europe/Helsinki:20260227T000000
DTEND;TZID=Europe/Helsinki:20260227T235959
DTSTAMP:20260426T031129
CREATED:20260211T080025Z
LAST-MODIFIED:20260211T080025Z
UID:14618-1772150400-1772236799@hempensteerns.nl
SUMMARY:De Bining: Des Notes
DESCRIPTION:16:30 uur
URL:https://hempensteerns.nl/agenda/de-bining-des-notes-4/
END:VEVENT
BEGIN:VEVENT
DTSTART;TZID=Europe/Helsinki:20260227T000000
DTEND;TZID=Europe/Helsinki:20260227T235959
DTSTAMP:20260426T031129
CREATED:20260211T075155Z
LAST-MODIFIED:20260211T075155Z
UID:14578-1772150400-1772236799@hempensteerns.nl
SUMMARY:De Bining: Café De Bining
DESCRIPTION:19:00 uur
URL:https://hempensteerns.nl/agenda/de-bining-cafe-de-bining-18/
END:VEVENT
BEGIN:VEVENT
DTSTART;TZID=Europe/Helsinki:20260226T000000
DTEND;TZID=Europe/Helsinki:20260226T235959
DTSTAMP:20260426T031129
CREATED:20260211T075528Z
LAST-MODIFIED:20260211T075528Z
UID:14594-1772064000-1772150399@hempensteerns.nl
SUMMARY:De Bining: OKK repetitie
DESCRIPTION:19:30 uur
URL:https://hempensteerns.nl/agenda/de-bining-okk-repetitie-17/
END:VEVENT
BEGIN:VEVENT
DTSTART;TZID=Europe/Helsinki:20260225T000000
DTEND;TZID=Europe/Helsinki:20260225T235959
DTSTAMP:20260426T031129
CREATED:20260211T075837Z
LAST-MODIFIED:20260211T075837Z
UID:14610-1771977600-1772063999@hempensteerns.nl
SUMMARY:De Bining: Zozumo
DESCRIPTION:20:00 uur
URL:https://hempensteerns.nl/agenda/de-bining-zozumo-14/
END:VEVENT
BEGIN:VEVENT
DTSTART;TZID=Europe/Helsinki:20260225T000000
DTEND;TZID=Europe/Helsinki:20260225T235959
DTSTAMP:20260426T031129
CREATED:20260211T075709Z
LAST-MODIFIED:20260211T075709Z
UID:14602-1771977600-1772063999@hempensteerns.nl
SUMMARY:De Bining: B&H band
DESCRIPTION:11:00 uur
URL:https://hempensteerns.nl/agenda/de-bining-bh-band-8/
END:VEVENT
BEGIN:VEVENT
DTSTART;TZID=Europe/Helsinki:20260223T000000
DTEND;TZID=Europe/Helsinki:20260223T235959
DTSTAMP:20260426T031129
CREATED:20260211T075508Z
LAST-MODIFIED:20260211T075508Z
UID:14592-1771804800-1771891199@hempensteerns.nl
SUMMARY:De Bining: OKK repetitie
DESCRIPTION:19:30 uur
URL:https://hempensteerns.nl/agenda/de-bining-okk-repetitie-16/
END:VEVENT
BEGIN:VEVENT
DTSTART;TZID=Europe/Helsinki:20260222T000000
DTEND;TZID=Europe/Helsinki:20260222T235959
DTSTAMP:20260426T031129
CREATED:20260211T074859Z
LAST-MODIFIED:20260211T074859Z
UID:14568-1771718400-1771804799@hempensteerns.nl
SUMMARY:Taizé viering (Martinuskerk)
DESCRIPTION:19:00 uur in de Martinuskerk.
URL:https://hempensteerns.nl/agenda/taize-viering-martinuskerk/
END:VEVENT
BEGIN:VEVENT
DTSTART;TZID=Europe/Helsinki:20260220T000000
DTEND;TZID=Europe/Helsinki:20260220T235959
DTSTAMP:20260426T031129
CREATED:20260211T075956Z
LAST-MODIFIED:20260211T075956Z
UID:14616-1771545600-1771631999@hempensteerns.nl
SUMMARY:De Bining: Des Notes
DESCRIPTION:16:30 uur
URL:https://hempensteerns.nl/agenda/de-bining-des-notes-3/
END:VEVENT
BEGIN:VEVENT
DTSTART;TZID=Europe/Helsinki:20260220T000000
DTEND;TZID=Europe/Helsinki:20260220T235959
DTSTAMP:20260426T031129
CREATED:20260211T075123Z
LAST-MODIFIED:20260211T075123Z
UID:14576-1771545600-1771631999@hempensteerns.nl
SUMMARY:De Bining: Café De Bining
DESCRIPTION:19:00 uur
URL:https://hempensteerns.nl/agenda/de-bining-cafe-de-bining-17/
END:VEVENT
BEGIN:VEVENT
DTSTART;TZID=Europe/Helsinki:20260219T000000
DTEND;TZID=Europe/Helsinki:20260219T235959
DTSTAMP:20260426T031129
CREATED:20260211T075447Z
LAST-MODIFIED:20260211T075447Z
UID:14590-1771459200-1771545599@hempensteerns.nl
SUMMARY:De Bining: OKK repetitie
DESCRIPTION:19:30 uur
URL:https://hempensteerns.nl/agenda/de-bining-okk-repetitie-15/
END:VEVENT
BEGIN:VEVENT
DTSTART;TZID=Europe/Helsinki:20260218T000000
DTEND;TZID=Europe/Helsinki:20260218T235959
DTSTAMP:20260426T031129
CREATED:20260211T075818Z
LAST-MODIFIED:20260211T075818Z
UID:14608-1771372800-1771459199@hempensteerns.nl
SUMMARY:De Bining: Zozumo
DESCRIPTION:20:00 uur
URL:https://hempensteerns.nl/agenda/de-bining-zozumo-13/
END:VEVENT
BEGIN:VEVENT
DTSTART;TZID=Europe/Helsinki:20260218T000000
DTEND;TZID=Europe/Helsinki:20260218T235959
DTSTAMP:20260426T031129
CREATED:20260211T075646Z
LAST-MODIFIED:20260211T075646Z
UID:14600-1771372800-1771459199@hempensteerns.nl
SUMMARY:De Bining: B&H band
DESCRIPTION:11:00 uur
URL:https://hempensteerns.nl/agenda/de-bining-bh-band-7/
END:VEVENT
BEGIN:VEVENT
DTSTART;TZID=Europe/Helsinki:20260216T000000
DTEND;TZID=Europe/Helsinki:20260216T235959
DTSTAMP:20260426T031129
CREATED:20260211T075425Z
LAST-MODIFIED:20260211T075425Z
UID:14588-1771200000-1771286399@hempensteerns.nl
SUMMARY:De Bining: OKK repetitie
DESCRIPTION:19:30 uur
URL:https://hempensteerns.nl/agenda/de-bining-okk-repetitie-14/
END:VEVENT
BEGIN:VEVENT
DTSTART;TZID=Europe/Helsinki:20260214T000000
DTEND;TZID=Europe/Helsinki:20260214T235959
DTSTAMP:20260426T031129
CREATED:20251010T082024Z
LAST-MODIFIED:20251010T082024Z
UID:14479-1771027200-1771113599@hempensteerns.nl
SUMMARY:De Bining: Klaverjassen
DESCRIPTION:Vanaf 20:00 uur.
URL:https://hempensteerns.nl/agenda/de-bining-klaverjassen-5/
END:VEVENT
BEGIN:VEVENT
DTSTART;TZID=Europe/Helsinki:20260213T000000
DTEND;TZID=Europe/Helsinki:20260213T235959
DTSTAMP:20260426T031129
CREATED:20260211T075930Z
LAST-MODIFIED:20260211T075930Z
UID:14614-1770940800-1771027199@hempensteerns.nl
SUMMARY:De Bining: Des Notes
DESCRIPTION:16:30 uur
URL:https://hempensteerns.nl/agenda/de-bining-des-notes-2/
END:VEVENT
BEGIN:VEVENT
DTSTART;TZID=Europe/Helsinki:20260213T000000
DTEND;TZID=Europe/Helsinki:20260213T235959
DTSTAMP:20260426T031129
CREATED:20260211T075048Z
LAST-MODIFIED:20260211T075048Z
UID:14574-1770940800-1771027199@hempensteerns.nl
SUMMARY:De Bining: Café De Bining
DESCRIPTION:19:00 uur
URL:https://hempensteerns.nl/agenda/de-bining-cafe-de-bining-16/
END:VEVENT
BEGIN:VEVENT
DTSTART;TZID=Europe/Helsinki:20260212T000000
DTEND;TZID=Europe/Helsinki:20260212T235959
DTSTAMP:20260426T031129
CREATED:20260211T075405Z
LAST-MODIFIED:20260211T075405Z
UID:14586-1770854400-1770940799@hempensteerns.nl
SUMMARY:De Bining: OKK repetitie
DESCRIPTION:19:30 uur
URL:https://hempensteerns.nl/agenda/de-bining-okk-repetitie-13/
END:VEVENT
BEGIN:VEVENT
DTSTART;TZID=Europe/Helsinki:20260211T000000
DTEND;TZID=Europe/Helsinki:20260211T235959
DTSTAMP:20260426T031129
CREATED:20260211T075757Z
LAST-MODIFIED:20260211T075757Z
UID:14606-1770768000-1770854399@hempensteerns.nl
SUMMARY:De Bining: Zozumo
DESCRIPTION:20:00 uur
URL:https://hempensteerns.nl/agenda/de-bining-zozumo-12/
END:VEVENT
BEGIN:VEVENT
DTSTART;TZID=Europe/Helsinki:20260211T000000
DTEND;TZID=Europe/Helsinki:20260211T235959
DTSTAMP:20260426T031129
CREATED:20260211T075625Z
LAST-MODIFIED:20260211T075625Z
UID:14598-1770768000-1770854399@hempensteerns.nl
SUMMARY:De Bining: B&H band
DESCRIPTION:11:00 uur
URL:https://hempensteerns.nl/agenda/de-bining-bh-band-6/
END:VEVENT
BEGIN:VEVENT
DTSTART;TZID=Europe/Helsinki:20260211T000000
DTEND;TZID=Europe/Helsinki:20260211T235959
DTSTAMP:20260426T031129
CREATED:20260211T075024Z
LAST-MODIFIED:20260211T075024Z
UID:14572-1770768000-1770854399@hempensteerns.nl
SUMMARY:Oud papier
DESCRIPTION:
URL:https://hempensteerns.nl/agenda/oud-papier-27/
END:VEVENT
BEGIN:VEVENT
DTSTART;TZID=Europe/Helsinki:20260210T000000
DTEND;TZID=Europe/Helsinki:20260210T235959
DTSTAMP:20260426T031129
CREATED:20260211T080059Z
LAST-MODIFIED:20260211T080059Z
UID:14620-1770681600-1770767999@hempensteerns.nl
SUMMARY:De Bining: Bining bestuur
DESCRIPTION:19:30 uur
URL:https://hempensteerns.nl/agenda/de-bining-bining-bestuur/
END:VEVENT
BEGIN:VEVENT
DTSTART;TZID=Europe/Helsinki:20260209T000000
DTEND;TZID=Europe/Helsinki:20260209T235959
DTSTAMP:20260426T031129
CREATED:20260211T075341Z
LAST-MODIFIED:20260211T075341Z
UID:14584-1770595200-1770681599@hempensteerns.nl
SUMMARY:De Bining: OKK repetitie
DESCRIPTION:19:30 uur
URL:https://hempensteerns.nl/agenda/de-bining-okk-repetitie-12/
END:VEVENT
BEGIN:VEVENT
DTSTART;TZID=Europe/Helsinki:20260206T000000
DTEND;TZID=Europe/Helsinki:20260206T235959
DTSTAMP:20260426T031129
CREATED:20260211T075908Z
LAST-MODIFIED:20260211T075908Z
UID:14612-1770336000-1770422399@hempensteerns.nl
SUMMARY:De Bining: Des Notes
DESCRIPTION:16:30 uur
URL:https://hempensteerns.nl/agenda/de-bining-des-notes/
END:VEVENT
BEGIN:VEVENT
DTSTART;TZID=Europe/Helsinki:20260206T000000
DTEND;TZID=Europe/Helsinki:20260206T235959
DTSTAMP:20260426T031129
CREATED:20260211T075000Z
LAST-MODIFIED:20260211T075000Z
UID:14570-1770336000-1770422399@hempensteerns.nl
SUMMARY:De Bining: Café De Bining
DESCRIPTION:19:00 uur
URL:https://hempensteerns.nl/agenda/de-bining-cafe-de-bining-15/
END:VEVENT
BEGIN:VEVENT
DTSTART;TZID=Europe/Helsinki:20260205T000000
DTEND;TZID=Europe/Helsinki:20260205T235959
DTSTAMP:20260426T031129
CREATED:20260211T075317Z
LAST-MODIFIED:20260211T075317Z
UID:14582-1770249600-1770335999@hempensteerns.nl
SUMMARY:De Bining: OKK repetitie
DESCRIPTION:19:30 uur
URL:https://hempensteerns.nl/agenda/de-bining-okk-repetitie-11/
END:VEVENT
BEGIN:VEVENT
DTSTART;TZID=Europe/Helsinki:20260204T000000
DTEND;TZID=Europe/Helsinki:20260204T235959
DTSTAMP:20260426T031129
CREATED:20260211T075740Z
LAST-MODIFIED:20260211T075740Z
UID:14604-1770163200-1770249599@hempensteerns.nl
SUMMARY:De Bining: Zozumo
DESCRIPTION:20:00 uur
URL:https://hempensteerns.nl/agenda/de-bining-zozumo-11/
END:VEVENT
BEGIN:VEVENT
DTSTART;TZID=Europe/Helsinki:20260204T000000
DTEND;TZID=Europe/Helsinki:20260204T235959
DTSTAMP:20260426T031129
CREATED:20260211T075605Z
LAST-MODIFIED:20260211T075605Z
UID:14596-1770163200-1770249599@hempensteerns.nl
SUMMARY:De Bining: B&H band
DESCRIPTION:11:00 uur
URL:https://hempensteerns.nl/agenda/de-bining-bh-band-5/
END:VEVENT
BEGIN:VEVENT
DTSTART;TZID=Europe/Helsinki:20260202T000000
DTEND;TZID=Europe/Helsinki:20260202T235959
DTSTAMP:20260426T031129
CREATED:20260211T075235Z
LAST-MODIFIED:20260211T075235Z
UID:14580-1769990400-1770076799@hempensteerns.nl
SUMMARY:De Bining: OKK repetitie
DESCRIPTION:19:30 uur
URL:https://hempensteerns.nl/agenda/de-bining-okk-repetitie-10/
END:VEVENT
END:VCALENDAR